BEGIN:VCALENDAR
VERSION:2.0
PRODID:-//hacksw/handcal//NONSGML v1.0//EN
BEGIN:VEVENT
SUMMARY:Challenge Omnisports
UID:a9f32f0d-8eeb-490e-b8d0-f12891b2509e
DTSTART:20251205T090000Z
DTEND:20251205T153000Z
LOCATION:Localisation Stade de ma ville 72000 LE MANS
CATEGORIES:Sportif
STATUS:
DESCRIPTION:<p>Le challenge Omnisports organise par le club debutera
 sur le grand stade de la ville.<br>Les prix seront remis en
 soiree.</p>
URL;VALUE=URI:https://moulistonic.sportsregions.fr/evenements/2025/12/05/challenge-omnisports-2368210
END:VEVENT
END:VCALENDAR
